BEGIN:VCALENDAR
VERSION:2.0
PRODID:-//All Wales Airway Group - ECPv6.15.20//NONSGML v1.0//EN
CALSCALE:GREGORIAN
METHOD:PUBLISH
X-ORIGINAL-URL:https://allwalesairwaygroup.co.uk
X-WR-CALDESC:Events for All Wales Airway Group
REFRESH-INTERVAL;VALUE=DURATION:PT1H
X-Robots-Tag:noindex
X-PUBLISHED-TTL:PT1H
BEGIN:VTIMEZONE
TZID:UTC
BEGIN:STANDARD
TZOFFSETFROM:+0000
TZOFFSETTO:+0000
TZNAME:UTC
DTSTART:20250101T000000
END:STANDARD
END:VTIMEZONE
BEGIN:VEVENT
DTSTART;VALUE=DATE:20260501
DTEND;VALUE=DATE:20260502
DTSTAMP:20260423T080740
CREATED:20250128T122032Z
LAST-MODIFIED:20260204T095420Z
UID:360-1777593600-1777679999@allwalesairwaygroup.co.uk
SUMMARY:AWAG Airway Training Day
DESCRIPTION:The All Wales Airway Group is excited to announce another Airway Training Day at Grange University Hospital\, 1st May 2026! \nLimited spaces available. Book now at https://bookcpd.com/course/awag-study-day-may-26
URL:https://allwalesairwaygroup.co.uk/event/awag-airway-training-day/
LOCATION:Grange University Hospital
END:VEVENT
END:VCALENDAR